BEGIN:VCALENDAR
VERSION:2.0
PRODID:-//www.dehoga-nordrhein.de//NONSGML kigkonsult.se iCalcreator 2.18//
METHOD:PUBLISH
X-WR-CALNAME:DEHOGA Baden-Württemberg
X-WR-CALDESC:DEHOGA Baden-Württemberg
X-WR-TIMEZONE:Europe/Berlin
BEGIN:VTIMEZONE
TZID:Europe/Berlin
X-LIC-LOCATION:Europe/Berlin
BEGIN:STANDARD
DTSTART:20261025T030000
TZOFFSETFROM:+0200
TZOFFSETTO:+0100
TZNAME:CET
END:STANDARD
BEGIN:DAYLIGHT
DTSTART:20260329T020000
TZOFFSETFROM:+0100
TZOFFSETTO:+0200
RDATE:20270328T020000
TZNAME:CEST
END:DAYLIGHT
END:VTIMEZONE
BEGIN:VEVENT
UID:20260421T105223CEST-1473CasnPU@www.dehoga-nordrhein.de
DTSTAMP:20260421T085223Z
DTSTART;TZID=Europe/Berlin:20250910T152000
DTEND;TZID=Europe/Berlin:20250910T170000
SUMMARY:ReVa - Azubi Training: Bodenformationen und Sedimente
END:VEVENT
END:VCALENDAR
